BEGIN:VCALENDAR
VERSION:2.0
PRODID:-//Kastler Kulturverein - ECPv5.1.6//NONSGML v1.0//EN
CALSCALE:GREGORIAN
METHOD:PUBLISH
X-WR-CALNAME:Kastler Kulturverein
X-ORIGINAL-URL:https://www.kastlerkulturverein.de
X-WR-CALDESC:Veranstaltungen für Kastler Kulturverein
BEGIN:VTIMEZONE
TZID:Europe/Berlin
BEGIN:DAYLIGHT
TZOFFSETFROM:+0100
TZOFFSETTO:+0200
TZNAME:CEST
DTSTART:20260329T010000
END:DAYLIGHT
BEGIN:STANDARD
TZOFFSETFROM:+0200
TZOFFSETTO:+0100
TZNAME:CET
DTSTART:20261025T010000
END:STANDARD
END:VTIMEZONE
BEGIN:VEVENT
DTSTART;TZID=Europe/Berlin:20260124T190000
DTEND;TZID=Europe/Berlin:20260124T190000
DTSTAMP:20260423T104414
CREATED:20251208T185254Z
LAST-MODIFIED:20251208T185945Z
UID:697-1769281200-1769281200@www.kastlerkulturverein.de
SUMMARY:2.Kastler Pub Quiz
DESCRIPTION:Wir laden wieder zu einem Abend voller Rätselspaß ein!Nach der ausverkauften Premiere im Februar 2025\, geht unser Pub Quiz nun in die zweite Runde. \nWann: Samstag\, 24. Januar 202619:00 Uhr: Ankommen und Teamfindung19:30 Uhr: Start \nWo: Grundschule Kastl \nTeams:2–4 Personen.Ihr könnt schon als Gruppe kommen oder euch vor Ort zusammentun – niemand rätselt allein. \nKosten:10 € pro Team \nAuch diesmal erwarten euch abwechslungsreiche Fragen aus vielen Wissensbereichen – unterhaltsam\, herausfordernd und perfekt für einen geselligen Abend. Getränke sowie kleine Brotzeiten gibt es vor Ort. \nNatürlich gibt es wieder attraktive Gewinne für die besten Teams. Für alle Anwesenden gibt aber auf jeden Fall unnützes (oder nützliches!) Wissen für die Ewigkeit. \nAnmeldung:Am besten über das Kontaktformular unserer Website kastlerkulturverein.de.Da die erste Ausgabe rasch ausgebucht war\, empfehlen wir frühes Anmelden. Sollten alle Plätze vergeben sein\, führen wir eine Warteliste. \nWir freuen uns auf euch – auf bekannte Teams\, neue Gesichter und einen weiteren großartigen Abend! \nEuer Kastler Kulturverein
URL:https://www.kastlerkulturverein.de/veranstaltung/2-kastler-pub-quiz/
LOCATION:Grundschule Kastl\, Schulstraße 3\, Kastl\, Bayern\, 84556\, Deutschland
ATTACH;FMTTYPE=image/jpeg:https://www.kastlerkulturverein.de/wp-content/uploads/2025/12/pubquiz2026.jpeg
ORGANIZER;CN="Kastler%20Kulturverein%20e.V.":MAILTO:info@kastlerkulturverein.de
END:VEVENT
END:VCALENDAR