BEGIN:VCALENDAR
VERSION:2.0
PRODID:-//Kastler Kulturverein - ECPv5.1.6//NONSGML v1.0//EN
CALSCALE:GREGORIAN
METHOD:PUBLISH
X-WR-CALNAME:Kastler Kulturverein
X-ORIGINAL-URL:https://www.kastlerkulturverein.de
X-WR-CALDESC:Veranstaltungen für Kastler Kulturverein
BEGIN:VTIMEZONE
TZID:Europe/Berlin
BEGIN:DAYLIGHT
TZOFFSETFROM:+0100
TZOFFSETTO:+0200
TZNAME:CEST
DTSTART:20250330T010000
END:DAYLIGHT
BEGIN:STANDARD
TZOFFSETFROM:+0200
TZOFFSETTO:+0100
TZNAME:CET
DTSTART:20251026T010000
END:STANDARD
END:VTIMEZONE
BEGIN:VEVENT
DTSTART;TZID=Europe/Berlin:20250612T080000
DTEND;TZID=Europe/Berlin:20250612T170000
DTSTAMP:20260425T152326
CREATED:20250612T055041Z
LAST-MODIFIED:20250612T055153Z
UID:690-1749715200-1749747600@www.kastlerkulturverein.de
SUMMARY:Kastler Dorfolympiade 2025
DESCRIPTION:Facebook-Event: https://www.facebook.com/events/732202479207000 \nJetzt ist es endlich wieder so weit! Nach einem Jahr (wetterbedingter) Pause kehrt sie zurück – größer\, bunter und besser denn je: die Kastler Dorfolympiade ist wieder da! Was 2022 ins Leben gerufen wurde und 2023 für Begeisterung sorgte\, findet 2025 endlich seine heiß ersehnte dritte Ausgabe. Der Sommer hat gerade erst begonnen\, und Kastl startet mit Teamgeist\, Spaß und einem Hauch sportlichem Ehrgeiz direkt durch! \nAuf den heiligen Tartanbahnen der Grundschule Kastl kommen zum 3. Mal die Besten der Besten zusammen.  Teamfähigkeit\, Klugheit\, Stärke und Fingerspitzengefühl muss abermals jedes Team beweisen\, um am Ende Ruhm und Ehre und die Siegertrophäe zu bekommen. \nDer Kastler Kulturverein präsentiert – it’s back again! – die Kastler Dorfolympiade! \nNun brauchen wir euch! In Kleingruppen von 3 bis 5 Personen dürft ihr euch an jeder der Stationen unserer teilnehmenden Kastler Vereine messen! \nWas ihr dafür tun müsst? Einfach spontan ohne Voranmeldung am Samstag\, dem 28. Juni 2025 von 12 bis 17 Uhr zur Grundschule Kastl kommen! Es sind alle Altersgruppen willkommen. Kommt mit euren Freunden\, mit euren Kindern\, Eltern\, Großeltern\, bringt sie alle mit! \nWir lassen das Gelände zum Ort für Spaß und Spiele werden. An jeder Station gibt es eine Aufgabe zu erfüllen\, um damit Punkte für euer Team zu gewinnen. Das Ziel ist natürlich\, so viele Gesamtpunkte wie möglich zu erreichen. \nWenn ihr fertig seid\, könnt ihr bis zur Siegerehrung hier bleiben oder einfach später wiederkommen. Ersteres würde sich aber auf jeden Fall lohnen. Wir versorgen euch nämlich den ganzen Tag mit kühlen Getränken und herzhaften Speisen vom Grill. \nDas Gewinnerteam geht natürlich nicht nur mit Ruhm und Ehre nach Hause\, sondern mit saftigen Gewinnen! Für den zweiten und dritten Platz gibts auch etwas! \n  \nDie Fakten: \n\nSa\, 28. Juni 2025 ab 12 Uhr\nletzte Anmeldung bzw. Teilnahme um 16 Uhr\nSiegerehrung um 17 Uhr\nNur Gruppenteilnahme mit 3 bis 5 Personen\, jede Altersgruppe\nTeilnahmegebühr pro Team 5€\n\n  \nWir bedanken uns bereits jetzt bei allen teilnehmenden Vereinen\, der Grundschule Kastl und natürlich euch für euer zahlreiches Erscheinen! \nEuer Kastler Kulturverein
URL:https://www.kastlerkulturverein.de/veranstaltung/kastler-dorfolympiade-2025/
LOCATION:Bayern
ATTACH;FMTTYPE=image/jpeg:https://www.kastlerkulturverein.de/wp-content/uploads/2025/06/dorfolympiade2025.jpeg
END:VEVENT
END:VCALENDAR