BEGIN:VCALENDAR
VERSION:2.0
PRODID:-//Kastler Kulturverein - ECPv5.1.6//NONSGML v1.0//EN
CALSCALE:GREGORIAN
METHOD:PUBLISH
X-WR-CALNAME:Kastler Kulturverein
X-ORIGINAL-URL:https://www.kastlerkulturverein.de
X-WR-CALDESC:Veranstaltungen für Kastler Kulturverein
BEGIN:VTIMEZONE
TZID:Europe/Berlin
BEGIN:DAYLIGHT
TZOFFSETFROM:+0100
TZOFFSETTO:+0200
TZNAME:CEST
DTSTART:20250330T010000
END:DAYLIGHT
BEGIN:STANDARD
TZOFFSETFROM:+0200
TZOFFSETTO:+0100
TZNAME:CET
DTSTART:20251026T010000
END:STANDARD
END:VTIMEZONE
BEGIN:VEVENT
DTSTART;TZID=Europe/Berlin:20250208T190000
DTEND;TZID=Europe/Berlin:20250208T220000
DTSTAMP:20260425T210501
CREATED:20250106T215453Z
LAST-MODIFIED:20250202T200004Z
UID:669-1739041200-1739052000@www.kastlerkulturverein.de
SUMMARY:1.Kastler Pub Quiz
DESCRIPTION:Update 2. Februar 2025: \nWir bedanken uns bei allen Anmeldungen und freuen uns über das rege Interesse an der Veranstaltung! Wir nehmen zwar gern weitere Anmeldungen an – diese erfolgen aber auf Warteliste. Einlass nicht garantiert. \n\n  \nDer Kastler Kulturverein lädt euch herzlich ein\, gemeinsam einen kniffligen\, hoffentlich spaßigen Abend zu verbringen und euer Wissen bei unserem 1. Pub Quiz unter Beweis zu stellen! Natürlich für alle aus Kastl\, aber auch Umgebung – alle sind willkommen! \nTeams:\nidealerweise 2-4 Personen pro Team.\nIhr könnt entweder bereits als Team kommen oder auch alleine\, keiner wird hier alleine rätseln. \nWann: 8. Februar\n19:00 Uhr: Treffpunkt und Bilden der Teams\n19.30 Uhr: Start des Rätselspaßes! \nWo:\nGrundschule Kastl \nKosten:\n10€ pro Team \nEs erwarten euch spannende Fragen zu verschiedensten Themen – von Musik über Filme bis hin zu Sport und mehr! Ein bunt gemischtes Quiz\, bei dem Teamarbeit und Wissen gefragt sind. \nGetränke stehen vor Ort bereit\, sodass ihr euch während des Quiz‘ stärken könnt. Für den kleinen Hunger gibts Wurst- und Käsesemmeln. \nNeben Quizerfahrung und neuem Wissen kann man sogar noch 50€ Spirkl-Gutschein\, 30€ in unserm Dorfcafe oder Freigetränke gewinnen. \nAnmeldung:\nMeldet euch unter der E-Mail-Adresse info@kastlerkulturverein.de oder das Kontaktformular an. Update: Wir bedanken uns bei allen Anmeldungen und freuen uns über das rege Interesse an der Veranstaltung! Leider sind wir sozusagen jetzt voll! Wir nehmen zwar gern weitere Anmeldungen an – diese erfolgen aber auf Warteliste. Einlass nicht garantiert. \nWir freuen uns auf zahlreiches Erscheinen und einen tollen\, geselligen Abend! \nEuer Kastler Kulturverein
URL:https://www.kastlerkulturverein.de/veranstaltung/1-kastler-pub-quiz/
LOCATION:Grundschule Kastl\, Schulstraße 3\, Kastl\, Bayern\, 84556\, Deutschland
ATTACH;FMTTYPE=image/jpeg:https://www.kastlerkulturverein.de/wp-content/uploads/2025/01/pubquiz2025.jpeg
ORGANIZER;CN="Kastler%20Kulturverein%20e.V.":MAILTO:info@kastlerkulturverein.de
END:VEVENT
END:VCALENDAR